BEGIN:VCALENDAR
VERSION:2.0
PRODID:icalendar-ruby
CALSCALE:GREGORIAN
BEGIN:VEVENT
DTSTAMP:20210121T213331Z
UID:cac260ee-b130-4255-babe-4d8514d9a7c3
DTSTART;VALUE=DATE:20190911
DESCRIPTION:Property ID# 458781\, Locatoin: 778 Manukau Road\, Royal Oak (u
 nless sold prior)\, Time: 6:00PM
SUMMARY:Auction for 
END:VEVENT
END:VCALENDAR
