BEGIN:VCALENDAR
VERSION:2.0
PRODID:icalendar-ruby
CALSCALE:GREGORIAN
BEGIN:VEVENT
DTSTAMP:20210121T213256Z
UID:77b71e66-59cd-46e3-aa2e-32d2f25161f3
DTSTART;VALUE=DATE:20190919
DESCRIPTION:Property ID# 460502\, Locatoin: 2 LORNE STREET\, AUCKLAND CENTR
 AL \, Time: 12:30PM
SUMMARY:Auction for 
END:VEVENT
END:VCALENDAR
