BEGIN:VCALENDAR
VERSION:2.0
PRODID:icalendar-ruby
CALSCALE:GREGORIAN
BEGIN:VEVENT
DTSTAMP:20210121T213259Z
UID:97c93357-1182-4ac2-8948-e7d38d7daac2
DTSTART;VALUE=DATE:20191215
DESCRIPTION:Property ID# 461824\, Locatoin: On site\, Time: 12:30PM
SUMMARY:Auction for 
END:VEVENT
END:VCALENDAR
