BEGIN:VCALENDAR
VERSION:2.0
PRODID:icalendar-ruby
CALSCALE:GREGORIAN
BEGIN:VEVENT
DTSTAMP:20210121T213252Z
UID:8f9735b9-7c7f-4cec-b822-63c660cdd939
DTSTART;VALUE=DATE:20191024
DESCRIPTION:Property ID# 463415\, Locatoin: 2 LORNE STREET\, AUCKLAND CENTR
 AL \, Time: 12:30PM
SUMMARY:Auction for 
END:VEVENT
END:VCALENDAR
