BEGIN:VCALENDAR
VERSION:2.0
PRODID:icalendar-ruby
CALSCALE:GREGORIAN
BEGIN:VEVENT
DTSTAMP:20210121T213629Z
UID:a313f610-454e-4964-be57-49a02f74f1b2
DTSTART;VALUE=DATE:20191120
DESCRIPTION:Property ID# 463866\, Locatoin: 778 Manukau Road\, Royal Oak (u
 nless sold prior)\, Time: 12:00PM
SUMMARY:Auction for 
END:VEVENT
END:VCALENDAR
