BEGIN:VCALENDAR
VERSION:2.0
PRODID:icalendar-ruby
CALSCALE:GREGORIAN
BEGIN:VEVENT
DTSTAMP:20210121T213251Z
UID:02f40eea-c830-4949-9df8-aea7331b1362
DTSTART;VALUE=DATE:20191121
DESCRIPTION:Property ID# 464366\, Locatoin: 2 LORNE STREET\, AUCKLAND CENTR
 AL \, Time: 12:30PM
SUMMARY:Auction for 
END:VEVENT
END:VCALENDAR
