BEGIN:VCALENDAR
VERSION:2.0
PRODID:icalendar-ruby
CALSCALE:GREGORIAN
BEGIN:VEVENT
DTSTAMP:20210121T213623Z
UID:53d5dc17-a997-479a-8055-f5e7989f95da
DTSTART;VALUE=DATE:20191023
DESCRIPTION:Property ID# 464522\, Locatoin: 778 Manukau Road\, Royal Oak\, 
 1023\, Time: 12:00PM
SUMMARY:Auction for 
END:VEVENT
END:VCALENDAR
