BEGIN:VCALENDAR
VERSION:2.0
PRODID:icalendar-ruby
CALSCALE:GREGORIAN
BEGIN:VEVENT
DTSTAMP:20210121T213306Z
UID:daa1878d-d60f-4228-951f-912c57459304
DTSTART;VALUE=DATE:20191128
DESCRIPTION:Property ID# 465521\, Locatoin: Harcourts Cooper & Co Estate Lt
 d\, 128 Hurstmere Road\, Takapuna 0622\, Time: 6:30PM
SUMMARY:Auction for 
END:VEVENT
END:VCALENDAR
