BEGIN:VCALENDAR
VERSION:2.0
PRODID:icalendar-ruby
CALSCALE:GREGORIAN
BEGIN:VEVENT
DTSTAMP:20210121T213327Z
UID:295fc8b9-c6c7-4f28-b4cd-ac2270aa1a21
DTSTART;VALUE=DATE:20191127
DESCRIPTION:Property ID# 465666\, Locatoin: 778 Manukau Road Royal Oak\, Ti
 me: 6:00PM
SUMMARY:Auction for 
END:VEVENT
END:VCALENDAR
