BEGIN:VCALENDAR
VERSION:2.0
PRODID:icalendar-ruby
CALSCALE:GREGORIAN
BEGIN:VEVENT
DTSTAMP:20210121T213257Z
UID:cb5df606-a114-4811-a2e4-51a3c5ca7205
DTSTART;VALUE=DATE:20200123
DESCRIPTION:Property ID# 469629\, Locatoin: 6:30pm In rooms\, 128 Hurstmere
  Road\, Takapuna\, Time: 6:30PM
SUMMARY:Auction for 
END:VEVENT
END:VCALENDAR
