BEGIN:VCALENDAR
VERSION:2.0
PRODID:icalendar-ruby
CALSCALE:GREGORIAN
BEGIN:VEVENT
DTSTAMP:20210121T213249Z
UID:a3c2381a-5d6d-449c-a991-b177c4799a4c
DTSTART;VALUE=DATE:20200227
DESCRIPTION:Property ID# 471969\, Locatoin: 2 LORNE STREET\, AUCKLAND CENTR
 AL \, Time: 12:30PM
SUMMARY:Auction for 
END:VEVENT
END:VCALENDAR
