BEGIN:VCALENDAR
VERSION:2.0
PRODID:icalendar-ruby
CALSCALE:GREGORIAN
BEGIN:VEVENT
DTSTAMP:20210121T213619Z
UID:68e7cc49-980c-41d0-8c79-f76168d7880a
DTSTART;VALUE=DATE:20200318
DESCRIPTION:Property ID# 473369\, Locatoin: 778 Manukau Road\, Royal Oak (u
 nless sold prior)\, Time: 6:00PM
SUMMARY:Auction for 
END:VEVENT
END:VCALENDAR
