BEGIN:VCALENDAR
VERSION:2.0
PRODID:icalendar-ruby
CALSCALE:GREGORIAN
BEGIN:VEVENT
DTSTAMP:20210121T213248Z
UID:a6b3c1d2-f4ca-45e2-a68c-aaf02524bc87
DTSTART;VALUE=DATE:20200521
DESCRIPTION:Property ID# 475591\, Locatoin: 2 LORNE STREET\, AUCKLAND CENTR
 AL \, Time: 12:30PM
SUMMARY:Auction for 
END:VEVENT
END:VCALENDAR
