BEGIN:VCALENDAR
VERSION:2.0
PRODID:icalendar-ruby
CALSCALE:GREGORIAN
BEGIN:VEVENT
DTSTAMP:20210121T213324Z
UID:9b52fca0-d00d-41af-a17f-8b7cb49cf65d
DTSTART;VALUE=DATE:20200608
DESCRIPTION:Property ID# 481052\, Locatoin: 778 Manukau Road Royal Oak\, Ti
 me: 3:00PM
SUMMARY:Auction for 
END:VEVENT
END:VCALENDAR
