BEGIN:VCALENDAR
VERSION:2.0
PRODID:icalendar-ruby
CALSCALE:GREGORIAN
BEGIN:VEVENT
DTSTAMP:20210121T213618Z
UID:ff3e47b9-8053-4824-b954-0fbfbb7497db
DTSTART;VALUE=DATE:20200708
DESCRIPTION:Property ID# 482294\, Locatoin: 778 Manukau Road\, Royal Oak (u
 nless sold prior)\, Time: 6:00PM
SUMMARY:Auction for 
END:VEVENT
END:VCALENDAR
