BEGIN:VCALENDAR
VERSION:2.0
PRODID:icalendar-ruby
CALSCALE:GREGORIAN
BEGIN:VEVENT
DTSTAMP:20210121T213246Z
UID:c935da7a-e5c9-446a-b843-b60ec4aeaacf
DTSTART;VALUE=DATE:20200723
DESCRIPTION:Property ID# 483949\, Locatoin: 2 LORNE STREET\, AUCKLAND CENTR
 AL \, Time: 12:00PM
SUMMARY:Auction for 
END:VEVENT
END:VCALENDAR
