BEGIN:VCALENDAR
VERSION:2.0
PRODID:icalendar-ruby
CALSCALE:GREGORIAN
BEGIN:VEVENT
DTSTAMP:20210121T213323Z
UID:8b1b0e56-f5a0-4473-a2a0-d3dd1f604a10
DTSTART;VALUE=DATE:20200720
DESCRIPTION:Property ID# 484592\, Locatoin: 778 Manukau Road Royal Oak\, Ti
 me: 4:00PM
SUMMARY:Auction for 
END:VEVENT
END:VCALENDAR
