BEGIN:VCALENDAR
VERSION:2.0
PRODID:icalendar-ruby
CALSCALE:GREGORIAN
BEGIN:VEVENT
DTSTAMP:20210121T213245Z
UID:8e421a87-5c52-4067-bad7-c6220e07afe4
DTSTART;VALUE=DATE:20200806
DESCRIPTION:Property ID# 484944\, Locatoin: 2 lorne street Auckland Central
 \, Time: 12:30PM
SUMMARY:Auction for 
END:VEVENT
END:VCALENDAR
