BEGIN:VCALENDAR
VERSION:2.0
PRODID:icalendar-ruby
CALSCALE:GREGORIAN
BEGIN:VEVENT
DTSTAMP:20210121T213243Z
UID:5aff6311-74f6-48c5-b597-5af6d5b3975d
DTSTART;VALUE=DATE:20200813
DESCRIPTION:Property ID# 485517\, Locatoin: 2 LORNE STREET\, AUCKLAND CENTR
 AL \, Time: 12:30PM
SUMMARY:Auction for 
END:VEVENT
END:VCALENDAR
