BEGIN:VCALENDAR
VERSION:2.0
PRODID:icalendar-ruby
CALSCALE:GREGORIAN
BEGIN:VEVENT
DTSTAMP:20210121T213316Z
UID:10ed6abf-caa6-42bb-b4c8-1fe602bd883a
DTSTART;VALUE=DATE:20201011
DESCRIPTION:Property ID# 487039\, Locatoin: On site\, Time: 1:00PM
SUMMARY:Auction for 
END:VEVENT
END:VCALENDAR
