BEGIN:VCALENDAR
VERSION:2.0
PRODID:icalendar-ruby
CALSCALE:GREGORIAN
BEGIN:VEVENT
DTSTAMP:20210121T213321Z
UID:a696c0e5-ad25-4777-b9d2-6f5da912d091
DTSTART;VALUE=DATE:20200916
DESCRIPTION:Property ID# 487144\, Locatoin: 778 Manukau Road Royal Oak\, Ti
 me: 6:00PM
SUMMARY:Auction for 
END:VEVENT
END:VCALENDAR
