BEGIN:VCALENDAR
VERSION:2.0
PRODID:icalendar-ruby
CALSCALE:GREGORIAN
BEGIN:VEVENT
DTSTAMP:20210121T213320Z
UID:98cb1d2b-3aba-473d-acca-093872a32420
DTSTART;VALUE=DATE:20200907
DESCRIPTION:Property ID# 488845\, Locatoin: 778 Manukau Road Royal Oak\, Ti
 me: 3:00PM
SUMMARY:Auction for 
END:VEVENT
END:VCALENDAR
