BEGIN:VCALENDAR
VERSION:2.0
PRODID:icalendar-ruby
CALSCALE:GREGORIAN
BEGIN:VEVENT
DTSTAMP:20210121T213614Z
UID:c8c3edb6-6869-4dfc-8536-2ed052ef7b48
DTSTART;VALUE=DATE:20200923
DESCRIPTION:Property ID# 489304\, Locatoin: 778 Manukau Road\, Royal Oak\, 
 Auckland\, Time: 12:00PM
SUMMARY:Auction for 
END:VEVENT
END:VCALENDAR
