BEGIN:VCALENDAR
VERSION:2.0
PRODID:icalendar-ruby
CALSCALE:GREGORIAN
BEGIN:VEVENT
DTSTAMP:20210121T213242Z
UID:2cd386d4-ec4f-4cb4-ac13-85e021793cb5
DTSTART;VALUE=DATE:20201008
DESCRIPTION:Property ID# 490153\, Locatoin: 2 LORNE STREET\, AUCKLAND CENTR
 AL \, Time: 12:30PM
SUMMARY:Auction for 
END:VEVENT
END:VCALENDAR
