BEGIN:VCALENDAR
VERSION:2.0
PRODID:icalendar-ruby
CALSCALE:GREGORIAN
BEGIN:VEVENT
DTSTAMP:20210121T213613Z
UID:88508e36-a99d-415c-ab13-346ea179bfd0
DTSTART;VALUE=DATE:20201030
DESCRIPTION:Property ID# 492519\, Locatoin: 50 Remuera Road\, Time: 2:00PM
SUMMARY:Auction for 
END:VEVENT
END:VCALENDAR
