BEGIN:VCALENDAR
VERSION:2.0
PRODID:icalendar-ruby
CALSCALE:GREGORIAN
BEGIN:VEVENT
DTSTAMP:20210121T213313Z
UID:608d4f2e-e012-445e-bd8e-ff24e2c89e29
DTSTART;VALUE=DATE:20201118
DESCRIPTION:Property ID# 493542\, Locatoin: 778 Manukau Road\, Royal Oak (u
 nless sold prior)\, Time: 6:00PM
SUMMARY:Auction for 
END:VEVENT
END:VCALENDAR
