BEGIN:VCALENDAR
VERSION:2.0
PRODID:icalendar-ruby
CALSCALE:GREGORIAN
BEGIN:VEVENT
DTSTAMP:20210121T213240Z
UID:0eee9680-4221-40eb-ac1c-982602b9323a
DTSTART;VALUE=DATE:20201119
DESCRIPTION:Property ID# 493875\, Time: 12:30PM
SUMMARY:Auction for 
END:VEVENT
END:VCALENDAR
