BEGIN:VCALENDAR
VERSION:2.0
PRODID:icalendar-ruby
CALSCALE:GREGORIAN
BEGIN:VEVENT
DTSTAMP:20210121T213312Z
UID:a2686d68-59c3-4bb7-9151-246861d8e6c3
DTSTART;VALUE=DATE:20201125
DESCRIPTION:Property ID# 494264\, Locatoin: 778 Manukau Road Royal Oak\, Ti
 me: 6:00PM
SUMMARY:Auction for 
END:VEVENT
END:VCALENDAR
