BEGIN:VCALENDAR
VERSION:2.0
PRODID:icalendar-ruby
CALSCALE:GREGORIAN
BEGIN:VEVENT
DTSTAMP:20210121T213237Z
UID:93c64cbf-5f19-4160-b861-372d4c29b36b
DTSTART;VALUE=DATE:20201126
DESCRIPTION:Property ID# 494294\, Time: 12:30PM
SUMMARY:Auction for 
END:VEVENT
END:VCALENDAR
