BEGIN:VCALENDAR
VERSION:2.0
PRODID:icalendar-ruby
CALSCALE:GREGORIAN
BEGIN:VEVENT
DTSTAMP:20210121T213310Z
UID:fe53b216-23c4-4944-9e49-9095d8f928d5
DTSTART;VALUE=DATE:20201202
DESCRIPTION:Property ID# 495141\, Locatoin: 778 Manukau Road\, Royal Oak (u
 nless sold prior)\, Time: 6:00PM
SUMMARY:Auction for 
END:VEVENT
END:VCALENDAR
