BEGIN:VCALENDAR
VERSION:2.0
PRODID:icalendar-ruby
CALSCALE:GREGORIAN
BEGIN:VEVENT
DTSTAMP:20210121T213308Z
UID:7d70617a-7481-4250-89e4-d99f1af1549a
DTSTART;VALUE=DATE:20201209
DESCRIPTION:Property ID# 497563\, Locatoin: 778 Manukau Rd\, Time: 12:00PM
SUMMARY:Auction for 
END:VEVENT
END:VCALENDAR
