BEGIN:VCALENDAR
VERSION:2.0
PRODID:icalendar-ruby
CALSCALE:GREGORIAN
BEGIN:VEVENT
DTSTAMP:20210121T212548Z
UID:2060cc74-51c5-4dde-84d2-94783f398e55
DTSTART;VALUE=DATE:20210211
DESCRIPTION:Property ID# 498813\, Locatoin: 2 Lorne Street AUCKLAND CENTRAL
  \, Time: 12:00PM
SUMMARY:Auction for 416/10 Ronayne street
END:VEVENT
END:VCALENDAR
