BEGIN:VCALENDAR
VERSION:2.0
PRODID:icalendar-ruby
CALSCALE:GREGORIAN
BEGIN:VEVENT
DTSTAMP:20210121T212552Z
UID:986fe4ab-c3a0-4544-b7ad-b1ad560d3ef5
DTSTART;VALUE=DATE:20210211
DESCRIPTION:Property ID# 498814\, Locatoin: 2 Lorne Street AUCKLAND CENTRAL
  \, Time: 12:30PM
SUMMARY:Auction for 505/10 Ronayne Street
END:VEVENT
END:VCALENDAR
