BEGIN:VCALENDAR
VERSION:2.0
PRODID:icalendar-ruby
CALSCALE:GREGORIAN
BEGIN:VEVENT
DTSTAMP:20210121T212607Z
UID:3cb0dcff-27ab-49ad-a52d-10ddd5fde32f
DTSTART;VALUE=DATE:20210121
DESCRIPTION:Property ID# 499053\, Locatoin: 128 Hurstmere Road\, Takapuna\,
  Time: 6:30PM
SUMMARY:Auction for 
END:VEVENT
END:VCALENDAR
