BEGIN:VCALENDAR
VERSION:2.0
PRODID:icalendar-ruby
CALSCALE:GREGORIAN
BEGIN:VEVENT
DTSTAMP:20210121T212603Z
UID:7590faec-27c7-4f08-83f6-c3c7848734bb
DTSTART;VALUE=DATE:20210128
DESCRIPTION:Property ID# 499054\, Locatoin: 128 Hurstmere Road\, Takapuna\,
  Time: 6:30PM
SUMMARY:Auction for 
END:VEVENT
END:VCALENDAR
