BEGIN:VCALENDAR
VERSION:2.0
PRODID:icalendar-ruby
CALSCALE:GREGORIAN
BEGIN:VEVENT
DTSTAMP:20210121T213305Z
UID:acd77449-b1c2-483e-9c46-dcad8295a24d
DTSTART;VALUE=DATE:20210211
DESCRIPTION:Property ID# 499518\, Locatoin: IN-Rooms\, 128 Hurstmere Road\,
  Takapuna\, Time: 6:30PM
SUMMARY:Auction for 
END:VEVENT
END:VCALENDAR
