BEGIN:VCALENDAR
VERSION:2.0
PRODID:icalendar-ruby
CALSCALE:GREGORIAN
BEGIN:VEVENT
DTSTAMP:20210121T213344Z
UID:00c30285-5ad9-405c-ac2d-aa0e4286a912
DTSTART;VALUE=DATE:20210131
DESCRIPTION:Property ID# 499640\, Time: 4:30PM
SUMMARY:Auction for 15 Sandwick Drive
END:VEVENT
END:VCALENDAR
