BEGIN:VCALENDAR
VERSION:2.0
PRODID:icalendar-ruby
CALSCALE:GREGORIAN
BEGIN:VEVENT
DTSTAMP:20210121T213341Z
UID:c94063f9-47c1-43bd-a29a-df5ac73949ea
DTSTART;TZID=Pacific/Auckland:20210123T120000
DTEND;TZID=Pacific/Auckland:20210123T124500
DESCRIPTION:Property ID# 499640
SUMMARY:Openhome for 15 Sandwick Drive
END:VEVENT
END:VCALENDAR
