BEGIN:VCALENDAR
VERSION:2.0
PRODID:icalendar-ruby
CALSCALE:GREGORIAN
BEGIN:VEVENT
DTSTAMP:20210121T213302Z
UID:66c8ec27-4ca3-4a71-85f2-3d4694c7a7fa
DTSTART;TZID=Pacific/Auckland:20210123T123000
DTEND;TZID=Pacific/Auckland:20210123T131500
DESCRIPTION:Property ID# 499518
SUMMARY:Openhome for 
END:VEVENT
END:VCALENDAR
