BEGIN:VCALENDAR
VERSION:2.0
PRODID:icalendar-ruby
CALSCALE:GREGORIAN
BEGIN:VEVENT
DTSTAMP:20210121T212601Z
UID:c23ca61e-91bb-4e2d-a4eb-9b1daf6b8ff8
DTSTART;TZID=Pacific/Auckland:20210121T134500
DTEND;TZID=Pacific/Auckland:20210121T144500
DESCRIPTION:Property ID# 499054
SUMMARY:Openhome for 
END:VEVENT
END:VCALENDAR
