BEGIN:VCALENDAR
VERSION:2.0
PRODID:icalendar-ruby
CALSCALE:GREGORIAN
BEGIN:VEVENT
DTSTAMP:20210121T213349Z
UID:4bde76f1-31c4-4cc8-a2a6-f2c93843b70c
DTSTART;TZID=Pacific/Auckland:20210123T140000
DTEND;TZID=Pacific/Auckland:20210123T143000
DESCRIPTION:Property ID# 499781
SUMMARY:Openhome for 13 Grangewood Close
END:VEVENT
END:VCALENDAR
