BEGIN:VCALENDAR
VERSION:2.0
PRODID:icalendar-ruby
CALSCALE:GREGORIAN
BEGIN:VEVENT
DTSTAMP:20260423T072910Z
UID:19c289e3-77c6-407e-9a23-e058a0c7a5c0
DTSTART;VALUE=DATE:20200213
DESCRIPTION:Property ID# 458579\, Locatoin: 50 Remuera Road\, Remuera\, Tim
 e: 10:00AM
SUMMARY:Auction for 
END:VEVENT
END:VCALENDAR
