BEGIN:VCALENDAR
VERSION:2.0
PRODID:icalendar-ruby
CALSCALE:GREGORIAN
BEGIN:VEVENT
DTSTAMP:20260423T072505Z
UID:1ea700c4-6a6e-4b7b-bc50-495ab0e58694
DTSTART;VALUE=DATE:20191211
DESCRIPTION:Property ID# 466932\, Locatoin: 778 Manukau Road\, Royal Oak (u
 nless sold prior)\, Time: 4:00PM
SUMMARY:Auction for 
END:VEVENT
END:VCALENDAR
