BEGIN:VCALENDAR
VERSION:2.0
PRODID:icalendar-ruby
CALSCALE:GREGORIAN
BEGIN:VEVENT
DTSTAMP:20260423T074002Z
UID:dd2a3cc4-9a61-4e4d-828c-2240dfa125e9
DTSTART;VALUE=DATE:20200304
DESCRIPTION:Property ID# 472716\, Locatoin: 778 Manukau Road\, Royal Oak (U
 nless Sold Prior)\, Time: 6:00PM
SUMMARY:Auction for 
END:VEVENT
END:VCALENDAR
