BEGIN:VCALENDAR
VERSION:2.0
PRODID:icalendar-ruby
CALSCALE:GREGORIAN
BEGIN:VEVENT
DTSTAMP:20260423T072715Z
UID:9f89c3c8-c2fa-4a48-8bf5-6da1ae830f8f
DTSTART;VALUE=DATE:20200603
DESCRIPTION:Property ID# 477464\, Locatoin: 778 Manukau Road\, Royal Oak (u
 nless sold prior)\, Time: 12:00PM
SUMMARY:Auction for 
END:VEVENT
END:VCALENDAR
