BEGIN:VCALENDAR
VERSION:2.0
PRODID:icalendar-ruby
CALSCALE:GREGORIAN
BEGIN:VEVENT
DTSTAMP:20260423T044549Z
UID:4a1acbde-0470-405e-9112-502c0eba27e9
DTSTART;VALUE=DATE:20200715
DESCRIPTION:Property ID# 483697\, Locatoin: 778 Manukau Road\, Royal Oak (u
 nless sold prior)\, Time: 12:00AM
SUMMARY:Auction for 
END:VEVENT
END:VCALENDAR
