BEGIN:VCALENDAR
VERSION:2.0
PRODID:icalendar-ruby
CALSCALE:GREGORIAN
BEGIN:VEVENT
DTSTAMP:20260422T224503Z
UID:ca14ba61-23d8-4c6e-84d1-4abf3926979a
DTSTART;VALUE=DATE:20200830
DESCRIPTION:Property ID# 487678\, Time: 3:00PM
SUMMARY:Auction for 
END:VEVENT
END:VCALENDAR
