BEGIN:VCALENDAR
VERSION:2.0
PRODID:icalendar-ruby
CALSCALE:GREGORIAN
BEGIN:VEVENT
DTSTAMP:20260425T165314Z
UID:36dd372c-3865-4afb-88b3-079db91efa03
DTSTART;VALUE=DATE:20201006
DESCRIPTION:Property ID# 490644\, Locatoin: Inrooms\, 13/77 St. George Stre
 et\, Papatoetoe\, Time: 6:00PM
SUMMARY:Auction for 
END:VEVENT
END:VCALENDAR
