BEGIN:VCALENDAR
VERSION:2.0
PRODID:icalendar-ruby
CALSCALE:GREGORIAN
BEGIN:VEVENT
DTSTAMP:20260423T130410Z
UID:5290f9ff-26df-4f41-879b-88081e5e0639
DTSTART;VALUE=DATE:20210221
DESCRIPTION:Property ID# 500474\, Locatoin: Onsite\, Time: 12:00PM
SUMMARY:Auction for 
END:VEVENT
END:VCALENDAR
