BEGIN:VCALENDAR
VERSION:2.0
PRODID:icalendar-ruby
CALSCALE:GREGORIAN
BEGIN:VEVENT
DTSTAMP:20260422T224243Z
UID:e382dc38-0df6-4216-b10c-d4f1ea7859e5
DTSTART;VALUE=DATE:20210307
DESCRIPTION:Property ID# 501808\, Locatoin: on site\, Time: 3:00PM
SUMMARY:Auction for 
END:VEVENT
END:VCALENDAR
